BEGIN:VCALENDAR
VERSION:2.0
PRODID:-//Softrip - ECPv6.15.20//NONSGML v1.0//EN
CALSCALE:GREGORIAN
METHOD:PUBLISH
X-WR-CALNAME:Softrip
X-ORIGINAL-URL:https://www.softrip.com
X-WR-CALDESC:Events for Softrip
REFRESH-INTERVAL;VALUE=DURATION:PT1H
X-Robots-Tag:noindex
X-PUBLISHED-TTL:PT1H
BEGIN:VTIMEZONE
TZID:America/New_York
BEGIN:DAYLIGHT
TZOFFSETFROM:-0500
TZOFFSETTO:-0400
TZNAME:EDT
DTSTART:20240310T070000
END:DAYLIGHT
BEGIN:STANDARD
TZOFFSETFROM:-0400
TZOFFSETTO:-0500
TZNAME:EST
DTSTART:20241103T060000
END:STANDARD
BEGIN:DAYLIGHT
TZOFFSETFROM:-0500
TZOFFSETTO:-0400
TZNAME:EDT
DTSTART:20250309T070000
END:DAYLIGHT
BEGIN:STANDARD
TZOFFSETFROM:-0400
TZOFFSETTO:-0500
TZNAME:EST
DTSTART:20251102T060000
END:STANDARD
BEGIN:DAYLIGHT
TZOFFSETFROM:-0500
TZOFFSETTO:-0400
TZNAME:EDT
DTSTART:20260308T070000
END:DAYLIGHT
BEGIN:STANDARD
TZOFFSETFROM:-0400
TZOFFSETTO:-0500
TZNAME:EST
DTSTART:20261101T060000
END:STANDARD
END:VTIMEZONE
BEGIN:VEVENT
DTSTART;VALUE=DATE:20250106
DTEND;VALUE=DATE:20250120
DTSTAMP:20260422T050153
CREATED:20241205T130103Z
LAST-MODIFIED:20241205T130103Z
UID:3368-1736121600-1737331199@www.softrip.com
SUMMARY:Sprint 2025-4
DESCRIPTION:
URL:https://www.softrip.com/event/sprint-2025-4/
END:VEVENT
BEGIN:VEVENT
DTSTART;VALUE=DATE:20250113
DTEND;VALUE=DATE:20250224
DTSTAMP:20260422T050153
CREATED:20250120T190123Z
LAST-MODIFIED:20250120T190123Z
UID:3539-1736726400-1740355199@www.softrip.com
SUMMARY:Current Stable: 2025.01
DESCRIPTION:
URL:https://www.softrip.com/event/current-stable-2025-01/
CATEGORIES:Current Stable
END:VEVENT
BEGIN:VEVENT
DTSTART;VALUE=DATE:20250120
DTEND;VALUE=DATE:20250203
DTSTAMP:20260422T050153
CREATED:20241205T130135Z
LAST-MODIFIED:20241205T130135Z
UID:3370-1737331200-1738540799@www.softrip.com
SUMMARY:Sprint 2025-5
DESCRIPTION:
URL:https://www.softrip.com/event/sprint-2025-5/
END:VEVENT
BEGIN:VEVENT
DTSTART;TZID=America/New_York:20250130T210000
DTEND;TZID=America/New_York:20250130T230000
DTSTAMP:20260422T050153
CREATED:20250127T175505Z
LAST-MODIFIED:20250127T175505Z
UID:3566-1738270800-1738278000@www.softrip.com
SUMMARY:Server Maintenance
DESCRIPTION:Server security patches and updates
URL:https://www.softrip.com/event/server-maintenance/
CATEGORIES:Server Maintenance
END:VEVENT
BEGIN:VEVENT
DTSTART;VALUE=DATE:20250203
DTEND;VALUE=DATE:20250217
DTSTAMP:20260422T050153
CREATED:20241205T130156Z
LAST-MODIFIED:20241205T130156Z
UID:3372-1738540800-1739750399@www.softrip.com
SUMMARY:Sprint 2025-6
DESCRIPTION:
URL:https://www.softrip.com/event/sprint-2025-6/
END:VEVENT
BEGIN:VEVENT
DTSTART;VALUE=DATE:20250217
DTEND;VALUE=DATE:20250224
DTSTAMP:20260422T050153
CREATED:20241115T135505Z
LAST-MODIFIED:20250207T172934Z
UID:3310-1739750400-1740355199@www.softrip.com
SUMMARY:2025.02 - UAT
DESCRIPTION:
URL:https://www.softrip.com/event/2025-02-uat/
CATEGORIES:QA
END:VEVENT
BEGIN:VEVENT
DTSTART;VALUE=DATE:20250217
DTEND;VALUE=DATE:20250303
DTSTAMP:20260422T050153
CREATED:20241205T130501Z
LAST-MODIFIED:20241205T131709Z
UID:3374-1739750400-1740959999@www.softrip.com
SUMMARY:Sprint 2025-7
DESCRIPTION:
URL:https://www.softrip.com/event/sprint-2025-7/
CATEGORIES:Development
END:VEVENT
BEGIN:VEVENT
DTSTART;VALUE=DATE:20250224
DTEND;VALUE=DATE:20250225
DTSTAMP:20260422T050153
CREATED:20241115T135625Z
LAST-MODIFIED:20241205T131733Z
UID:3312-1740355200-1740441599@www.softrip.com
SUMMARY:2025.02 - Stable Build
DESCRIPTION:Auto-deployed to Softrip Hosted Production
URL:https://www.softrip.com/event/2025-02-stable-build/
CATEGORIES:Build
END:VEVENT
BEGIN:VEVENT
DTSTART;VALUE=DATE:20250224
DTEND;VALUE=DATE:20250407
DTSTAMP:20260422T050153
CREATED:20250120T190210Z
LAST-MODIFIED:20250120T190210Z
UID:3541-1740355200-1743983999@www.softrip.com
SUMMARY:Current Stable: 2025.02
DESCRIPTION:
URL:https://www.softrip.com/event/current-stable-2025-02/
CATEGORIES:Current Stable
END:VEVENT
BEGIN:VEVENT
DTSTART;TZID=America/New_York:20250227T210000
DTEND;TZID=America/New_York:20250227T230000
DTSTAMP:20260422T050153
CREATED:20250127T175604Z
LAST-MODIFIED:20250127T175604Z
UID:3568-1740690000-1740697200@www.softrip.com
SUMMARY:Server Maintenance
DESCRIPTION:Server security patches and updates
URL:https://www.softrip.com/event/server-maintenance-2/
CATEGORIES:Server Maintenance
END:VEVENT
BEGIN:VEVENT
DTSTART;VALUE=DATE:20250303
DTEND;VALUE=DATE:20250317
DTSTAMP:20260422T050153
CREATED:20241205T130531Z
LAST-MODIFIED:20241205T131709Z
UID:3376-1740960000-1742169599@www.softrip.com
SUMMARY:Sprint 2025-8
DESCRIPTION:
URL:https://www.softrip.com/event/sprint-2025-8/
CATEGORIES:Development
END:VEVENT
BEGIN:VEVENT
DTSTART;VALUE=DATE:20250317
DTEND;VALUE=DATE:20250331
DTSTAMP:20260422T050153
CREATED:20241205T130553Z
LAST-MODIFIED:20241205T131709Z
UID:3378-1742169600-1743379199@www.softrip.com
SUMMARY:Sprint 2025-9
DESCRIPTION:
URL:https://www.softrip.com/event/sprint-2025-9/
CATEGORIES:Development
END:VEVENT
BEGIN:VEVENT
DTSTART;TZID=America/New_York:20250327T210000
DTEND;TZID=America/New_York:20250327T230000
DTSTAMP:20260422T050153
CREATED:20250127T175631Z
LAST-MODIFIED:20250127T175631Z
UID:3570-1743109200-1743116400@www.softrip.com
SUMMARY:Server Maintenance
DESCRIPTION:Server security patches and updates
URL:https://www.softrip.com/event/server-maintenance-3/
CATEGORIES:Server Maintenance
END:VEVENT
BEGIN:VEVENT
DTSTART;VALUE=DATE:20250331
DTEND;VALUE=DATE:20250407
DTSTAMP:20260422T050153
CREATED:20241205T131103Z
LAST-MODIFIED:20250207T172929Z
UID:3398-1743379200-1743983999@www.softrip.com
SUMMARY:2025.03 - UAT
DESCRIPTION:
URL:https://www.softrip.com/event/2025-03-uat/
CATEGORIES:QA
END:VEVENT
BEGIN:VEVENT
DTSTART;VALUE=DATE:20250331
DTEND;VALUE=DATE:20250414
DTSTAMP:20260422T050153
CREATED:20241205T130622Z
LAST-MODIFIED:20241205T131709Z
UID:3380-1743379200-1744588799@www.softrip.com
SUMMARY:Sprint 2025-10
DESCRIPTION:
URL:https://www.softrip.com/event/sprint-2025-10/
CATEGORIES:Development
END:VEVENT
BEGIN:VEVENT
DTSTART;VALUE=DATE:20250407
DTEND;VALUE=DATE:20250408
DTSTAMP:20260422T050153
CREATED:20241205T131333Z
LAST-MODIFIED:20241205T131733Z
UID:3405-1743984000-1744070399@www.softrip.com
SUMMARY:2025.03 - Stable Build
DESCRIPTION:Auto-deployed to Softrip Hosted Production
URL:https://www.softrip.com/event/2025-03-stable-build/
CATEGORIES:Build
END:VEVENT
BEGIN:VEVENT
DTSTART;VALUE=DATE:20250407
DTEND;VALUE=DATE:20250519
DTSTAMP:20260422T050153
CREATED:20250120T190247Z
LAST-MODIFIED:20250120T190247Z
UID:3543-1743984000-1747612799@www.softrip.com
SUMMARY:Current Stable: 2025.03
DESCRIPTION:
URL:https://www.softrip.com/event/current-stable-2025-03/
CATEGORIES:Current Stable
END:VEVENT
BEGIN:VEVENT
DTSTART;VALUE=DATE:20250414
DTEND;VALUE=DATE:20250428
DTSTAMP:20260422T050153
CREATED:20241205T130654Z
LAST-MODIFIED:20241205T131709Z
UID:3382-1744588800-1745798399@www.softrip.com
SUMMARY:Sprint 2025-11
DESCRIPTION:
URL:https://www.softrip.com/event/sprint-2025-11/
CATEGORIES:Development
END:VEVENT
BEGIN:VEVENT
DTSTART;TZID=America/New_York:20250424T210000
DTEND;TZID=America/New_York:20250424T230000
DTSTAMP:20260422T050153
CREATED:20250127T175657Z
LAST-MODIFIED:20250127T175657Z
UID:3572-1745528400-1745535600@www.softrip.com
SUMMARY:Server Maintenance
DESCRIPTION:Server security patches and updates
URL:https://www.softrip.com/event/server-maintenance-4/
CATEGORIES:Server Maintenance
END:VEVENT
BEGIN:VEVENT
DTSTART;VALUE=DATE:20250428
DTEND;VALUE=DATE:20250512
DTSTAMP:20260422T050153
CREATED:20241205T130716Z
LAST-MODIFIED:20241205T131709Z
UID:3384-1745798400-1747007999@www.softrip.com
SUMMARY:Sprint 2025-12
DESCRIPTION:
URL:https://www.softrip.com/event/sprint-2025-12/
CATEGORIES:Development
END:VEVENT
BEGIN:VEVENT
DTSTART;VALUE=DATE:20250512
DTEND;VALUE=DATE:20250519
DTSTAMP:20260422T050153
CREATED:20241205T131147Z
LAST-MODIFIED:20250207T172924Z
UID:3401-1747008000-1747612799@www.softrip.com
SUMMARY:2025.04 - UAT
DESCRIPTION:
URL:https://www.softrip.com/event/2025-04-uat/
CATEGORIES:QA
END:VEVENT
BEGIN:VEVENT
DTSTART;VALUE=DATE:20250512
DTEND;VALUE=DATE:20250526
DTSTAMP:20260422T050153
CREATED:20241205T130749Z
LAST-MODIFIED:20241205T131709Z
UID:3386-1747008000-1748217599@www.softrip.com
SUMMARY:Sprint 2025-13
DESCRIPTION:
URL:https://www.softrip.com/event/sprint-2025-13/
CATEGORIES:Development
END:VEVENT
BEGIN:VEVENT
DTSTART;VALUE=DATE:20250519
DTEND;VALUE=DATE:20250520
DTSTAMP:20260422T050153
CREATED:20241205T131359Z
LAST-MODIFIED:20241205T131733Z
UID:3407-1747612800-1747699199@www.softrip.com
SUMMARY:2025.04 - Stable Build
DESCRIPTION:Auto-deployed to Softrip Hosted Production
URL:https://www.softrip.com/event/2025-04-stable-build/
CATEGORIES:Build
END:VEVENT
BEGIN:VEVENT
DTSTART;VALUE=DATE:20250519
DTEND;VALUE=DATE:20250630
DTSTAMP:20260422T050153
CREATED:20250120T190326Z
LAST-MODIFIED:20250120T190326Z
UID:3545-1747612800-1751241599@www.softrip.com
SUMMARY:Current Stable: 2025.04
DESCRIPTION:
URL:https://www.softrip.com/event/current-stable-2025-04/
CATEGORIES:Current Stable
END:VEVENT
BEGIN:VEVENT
DTSTART;VALUE=DATE:20250526
DTEND;VALUE=DATE:20250609
DTSTAMP:20260422T050153
CREATED:20241205T130813Z
LAST-MODIFIED:20241205T131709Z
UID:3388-1748217600-1749427199@www.softrip.com
SUMMARY:Sprint 2025-14
DESCRIPTION:
URL:https://www.softrip.com/event/sprint-2025-14/
CATEGORIES:Development
END:VEVENT
BEGIN:VEVENT
DTSTART;VALUE=DATE:20250609
DTEND;VALUE=DATE:20250623
DTSTAMP:20260422T050153
CREATED:20241205T130839Z
LAST-MODIFIED:20241205T131709Z
UID:3390-1749427200-1750636799@www.softrip.com
SUMMARY:Sprint 2025-15
DESCRIPTION:
URL:https://www.softrip.com/event/sprint-2025-15/
CATEGORIES:Development
END:VEVENT
BEGIN:VEVENT
DTSTART;VALUE=DATE:20250623
DTEND;VALUE=DATE:20250630
DTSTAMP:20260422T050153
CREATED:20241205T131210Z
LAST-MODIFIED:20250207T172920Z
UID:3403-1750636800-1751241599@www.softrip.com
SUMMARY:2025.05 - UAT
DESCRIPTION:
URL:https://www.softrip.com/event/2025-05-uat/
CATEGORIES:QA
END:VEVENT
BEGIN:VEVENT
DTSTART;VALUE=DATE:20250623
DTEND;VALUE=DATE:20250707
DTSTAMP:20260422T050153
CREATED:20241205T130906Z
LAST-MODIFIED:20241205T131708Z
UID:3392-1750636800-1751846399@www.softrip.com
SUMMARY:Sprint 2025-16
DESCRIPTION:
URL:https://www.softrip.com/event/sprint-2025-16/
CATEGORIES:Development
END:VEVENT
BEGIN:VEVENT
DTSTART;VALUE=DATE:20250630
DTEND;VALUE=DATE:20250701
DTSTAMP:20260422T050153
CREATED:20241205T131422Z
LAST-MODIFIED:20241205T131733Z
UID:3409-1751241600-1751327999@www.softrip.com
SUMMARY:2025.05 - Stable Build
DESCRIPTION:Auto-deployed to Softrip Hosted Production
URL:https://www.softrip.com/event/2025-05-stable-build/
CATEGORIES:Build
END:VEVENT
BEGIN:VEVENT
DTSTART;VALUE=DATE:20250630
DTEND;VALUE=DATE:20250811
DTSTAMP:20260422T050153
CREATED:20250120T190417Z
LAST-MODIFIED:20250120T190417Z
UID:3547-1751241600-1754870399@www.softrip.com
SUMMARY:Current Stable: 2025.05
DESCRIPTION:
URL:https://www.softrip.com/event/current-stable-2025-05/
CATEGORIES:Current Stable
END:VEVENT
END:VCALENDAR